BEGIN:VCALENDAR
VERSION:2.0
PRODID:barefoot.exploreoc.com
X-WR-CALNAME:1/2 Priced Entrees at Seacrets
BEGIN:VEVENT
UID:3972026-04-192026-04-19
DTSTART:20260419T200000Z
SEQUENCE:0
TRANSP:OPAQUE
DTEND:20260419T200000Z
LOCATION:117 49th St\nOcean City MD 21842
X-APPLE-STRUCTURED-LOCATION;VALUE=URI;X-ADDRESS=117 49th St\nOcean City MD 
 21842;X-APPLE-RADIUS=49;X-TITLE=117 49th St:geo:38.374561,-75.071571
GEO:38.374561;-75.071571
SUMMARY:1/2 Priced Entrees at Seacrets
CLASS:PUBLIC
DESCRIPTION:TODAY'S OFF-SEASON SPECIAL\n\n_Half-Priced Entrees Are Back!_\n
 \nJoin us at Seacrets from Sunday through Thursday night from 4 pm to 9\np
 m for this delicious dining deal! \n\n \n\n \n\n \n
X-ALT-DESC;FMTTYPE=text/html:<p><strong>Today&#39\;s Off-Season Special</st
 rong><br />\n<br />\n<em>Half-Priced Entrees Are Back!</em><br />\n<br />\
 nJoin us at Seacrets from Sunday through Thursday night from 4 pm to 9 pm 
 for this delicious dining deal!&nbsp\;<br />\n<br />\n<br />\n&nbsp\;</p>\
 n\n<p>&nbsp\;</p>\n\n<p><br />\n<br />\n&nbsp\;</p>
DTSTAMP:20260423T165033Z
END:VEVENT
BEGIN:VEVENT
UID:3972026-04-202026-04-20
DTSTART:20260420T200000Z
SEQUENCE:0
TRANSP:OPAQUE
DTEND:20260420T200000Z
LOCATION:117 49th St\nOcean City MD 21842
X-APPLE-STRUCTURED-LOCATION;VALUE=URI;X-ADDRESS=117 49th St\nOcean City MD 
 21842;X-APPLE-RADIUS=49;X-TITLE=117 49th St:geo:38.374561,-75.071571
GEO:38.374561;-75.071571
SUMMARY:1/2 Priced Entrees at Seacrets
CLASS:PUBLIC
DESCRIPTION:TODAY'S OFF-SEASON SPECIAL\n\n_Half-Priced Entrees Are Back!_\n
 \nJoin us at Seacrets from Sunday through Thursday night from 4 pm to 9\np
 m for this delicious dining deal! \n\n \n\n \n\n \n
X-ALT-DESC;FMTTYPE=text/html:<p><strong>Today&#39\;s Off-Season Special</st
 rong><br />\n<br />\n<em>Half-Priced Entrees Are Back!</em><br />\n<br />\
 nJoin us at Seacrets from Sunday through Thursday night from 4 pm to 9 pm 
 for this delicious dining deal!&nbsp\;<br />\n<br />\n<br />\n&nbsp\;</p>\
 n\n<p>&nbsp\;</p>\n\n<p><br />\n<br />\n&nbsp\;</p>
DTSTAMP:20260423T165033Z
END:VEVENT
BEGIN:VEVENT
UID:3972026-04-212026-04-21
DTSTART:20260421T200000Z
SEQUENCE:0
TRANSP:OPAQUE
DTEND:20260421T200000Z
LOCATION:117 49th St\nOcean City MD 21842
X-APPLE-STRUCTURED-LOCATION;VALUE=URI;X-ADDRESS=117 49th St\nOcean City MD 
 21842;X-APPLE-RADIUS=49;X-TITLE=117 49th St:geo:38.374561,-75.071571
GEO:38.374561;-75.071571
SUMMARY:1/2 Priced Entrees at Seacrets
CLASS:PUBLIC
DESCRIPTION:TODAY'S OFF-SEASON SPECIAL\n\n_Half-Priced Entrees Are Back!_\n
 \nJoin us at Seacrets from Sunday through Thursday night from 4 pm to 9\np
 m for this delicious dining deal! \n\n \n\n \n\n \n
X-ALT-DESC;FMTTYPE=text/html:<p><strong>Today&#39\;s Off-Season Special</st
 rong><br />\n<br />\n<em>Half-Priced Entrees Are Back!</em><br />\n<br />\
 nJoin us at Seacrets from Sunday through Thursday night from 4 pm to 9 pm 
 for this delicious dining deal!&nbsp\;<br />\n<br />\n<br />\n&nbsp\;</p>\
 n\n<p>&nbsp\;</p>\n\n<p><br />\n<br />\n&nbsp\;</p>
DTSTAMP:20260423T165033Z
END:VEVENT
BEGIN:VEVENT
UID:3972026-04-222026-04-22
DTSTART:20260422T200000Z
SEQUENCE:0
TRANSP:OPAQUE
DTEND:20260422T200000Z
LOCATION:117 49th St\nOcean City MD 21842
X-APPLE-STRUCTURED-LOCATION;VALUE=URI;X-ADDRESS=117 49th St\nOcean City MD 
 21842;X-APPLE-RADIUS=49;X-TITLE=117 49th St:geo:38.374561,-75.071571
GEO:38.374561;-75.071571
SUMMARY:1/2 Priced Entrees at Seacrets
CLASS:PUBLIC
DESCRIPTION:TODAY'S OFF-SEASON SPECIAL\n\n_Half-Priced Entrees Are Back!_\n
 \nJoin us at Seacrets from Sunday through Thursday night from 4 pm to 9\np
 m for this delicious dining deal! \n\n \n\n \n\n \n
X-ALT-DESC;FMTTYPE=text/html:<p><strong>Today&#39\;s Off-Season Special</st
 rong><br />\n<br />\n<em>Half-Priced Entrees Are Back!</em><br />\n<br />\
 nJoin us at Seacrets from Sunday through Thursday night from 4 pm to 9 pm 
 for this delicious dining deal!&nbsp\;<br />\n<br />\n<br />\n&nbsp\;</p>\
 n\n<p>&nbsp\;</p>\n\n<p><br />\n<br />\n&nbsp\;</p>
DTSTAMP:20260423T165033Z
END:VEVENT
BEGIN:VEVENT
UID:3972026-04-232026-04-23
DTSTART:20260423T200000Z
SEQUENCE:0
TRANSP:OPAQUE
DTEND:20260423T200000Z
LOCATION:117 49th St\nOcean City MD 21842
X-APPLE-STRUCTURED-LOCATION;VALUE=URI;X-ADDRESS=117 49th St\nOcean City MD 
 21842;X-APPLE-RADIUS=49;X-TITLE=117 49th St:geo:38.374561,-75.071571
GEO:38.374561;-75.071571
SUMMARY:1/2 Priced Entrees at Seacrets
CLASS:PUBLIC
DESCRIPTION:TODAY'S OFF-SEASON SPECIAL\n\n_Half-Priced Entrees Are Back!_\n
 \nJoin us at Seacrets from Sunday through Thursday night from 4 pm to 9\np
 m for this delicious dining deal! \n\n \n\n \n\n \n
X-ALT-DESC;FMTTYPE=text/html:<p><strong>Today&#39\;s Off-Season Special</st
 rong><br />\n<br />\n<em>Half-Priced Entrees Are Back!</em><br />\n<br />\
 nJoin us at Seacrets from Sunday through Thursday night from 4 pm to 9 pm 
 for this delicious dining deal!&nbsp\;<br />\n<br />\n<br />\n&nbsp\;</p>\
 n\n<p>&nbsp\;</p>\n\n<p><br />\n<br />\n&nbsp\;</p>
DTSTAMP:20260423T165033Z
END:VEVENT
BEGIN:VEVENT
UID:3972026-04-262026-04-26
DTSTART:20260426T200000Z
SEQUENCE:0
TRANSP:OPAQUE
DTEND:20260426T200000Z
LOCATION:117 49th St\nOcean City MD 21842
X-APPLE-STRUCTURED-LOCATION;VALUE=URI;X-ADDRESS=117 49th St\nOcean City MD 
 21842;X-APPLE-RADIUS=49;X-TITLE=117 49th St:geo:38.374561,-75.071571
GEO:38.374561;-75.071571
SUMMARY:1/2 Priced Entrees at Seacrets
CLASS:PUBLIC
DESCRIPTION:TODAY'S OFF-SEASON SPECIAL\n\n_Half-Priced Entrees Are Back!_\n
 \nJoin us at Seacrets from Sunday through Thursday night from 4 pm to 9\np
 m for this delicious dining deal! \n\n \n\n \n\n \n
X-ALT-DESC;FMTTYPE=text/html:<p><strong>Today&#39\;s Off-Season Special</st
 rong><br />\n<br />\n<em>Half-Priced Entrees Are Back!</em><br />\n<br />\
 nJoin us at Seacrets from Sunday through Thursday night from 4 pm to 9 pm 
 for this delicious dining deal!&nbsp\;<br />\n<br />\n<br />\n&nbsp\;</p>\
 n\n<p>&nbsp\;</p>\n\n<p><br />\n<br />\n&nbsp\;</p>
DTSTAMP:20260423T165033Z
END:VEVENT
BEGIN:VEVENT
UID:3972026-04-272026-04-27
DTSTART:20260427T200000Z
SEQUENCE:0
TRANSP:OPAQUE
DTEND:20260427T200000Z
LOCATION:117 49th St\nOcean City MD 21842
X-APPLE-STRUCTURED-LOCATION;VALUE=URI;X-ADDRESS=117 49th St\nOcean City MD 
 21842;X-APPLE-RADIUS=49;X-TITLE=117 49th St:geo:38.374561,-75.071571
GEO:38.374561;-75.071571
SUMMARY:1/2 Priced Entrees at Seacrets
CLASS:PUBLIC
DESCRIPTION:TODAY'S OFF-SEASON SPECIAL\n\n_Half-Priced Entrees Are Back!_\n
 \nJoin us at Seacrets from Sunday through Thursday night from 4 pm to 9\np
 m for this delicious dining deal! \n\n \n\n \n\n \n
X-ALT-DESC;FMTTYPE=text/html:<p><strong>Today&#39\;s Off-Season Special</st
 rong><br />\n<br />\n<em>Half-Priced Entrees Are Back!</em><br />\n<br />\
 nJoin us at Seacrets from Sunday through Thursday night from 4 pm to 9 pm 
 for this delicious dining deal!&nbsp\;<br />\n<br />\n<br />\n&nbsp\;</p>\
 n\n<p>&nbsp\;</p>\n\n<p><br />\n<br />\n&nbsp\;</p>
DTSTAMP:20260423T165033Z
END:VEVENT
BEGIN:VEVENT
UID:3972026-04-282026-04-28
DTSTART:20260428T200000Z
SEQUENCE:0
TRANSP:OPAQUE
DTEND:20260428T200000Z
LOCATION:117 49th St\nOcean City MD 21842
X-APPLE-STRUCTURED-LOCATION;VALUE=URI;X-ADDRESS=117 49th St\nOcean City MD 
 21842;X-APPLE-RADIUS=49;X-TITLE=117 49th St:geo:38.374561,-75.071571
GEO:38.374561;-75.071571
SUMMARY:1/2 Priced Entrees at Seacrets
CLASS:PUBLIC
DESCRIPTION:TODAY'S OFF-SEASON SPECIAL\n\n_Half-Priced Entrees Are Back!_\n
 \nJoin us at Seacrets from Sunday through Thursday night from 4 pm to 9\np
 m for this delicious dining deal! \n\n \n\n \n\n \n
X-ALT-DESC;FMTTYPE=text/html:<p><strong>Today&#39\;s Off-Season Special</st
 rong><br />\n<br />\n<em>Half-Priced Entrees Are Back!</em><br />\n<br />\
 nJoin us at Seacrets from Sunday through Thursday night from 4 pm to 9 pm 
 for this delicious dining deal!&nbsp\;<br />\n<br />\n<br />\n&nbsp\;</p>\
 n\n<p>&nbsp\;</p>\n\n<p><br />\n<br />\n&nbsp\;</p>
DTSTAMP:20260423T165033Z
END:VEVENT
BEGIN:VEVENT
UID:3972026-04-292026-04-29
DTSTART:20260429T200000Z
SEQUENCE:0
TRANSP:OPAQUE
DTEND:20260429T200000Z
LOCATION:117 49th St\nOcean City MD 21842
X-APPLE-STRUCTURED-LOCATION;VALUE=URI;X-ADDRESS=117 49th St\nOcean City MD 
 21842;X-APPLE-RADIUS=49;X-TITLE=117 49th St:geo:38.374561,-75.071571
GEO:38.374561;-75.071571
SUMMARY:1/2 Priced Entrees at Seacrets
CLASS:PUBLIC
DESCRIPTION:TODAY'S OFF-SEASON SPECIAL\n\n_Half-Priced Entrees Are Back!_\n
 \nJoin us at Seacrets from Sunday through Thursday night from 4 pm to 9\np
 m for this delicious dining deal! \n\n \n\n \n\n \n
X-ALT-DESC;FMTTYPE=text/html:<p><strong>Today&#39\;s Off-Season Special</st
 rong><br />\n<br />\n<em>Half-Priced Entrees Are Back!</em><br />\n<br />\
 nJoin us at Seacrets from Sunday through Thursday night from 4 pm to 9 pm 
 for this delicious dining deal!&nbsp\;<br />\n<br />\n<br />\n&nbsp\;</p>\
 n\n<p>&nbsp\;</p>\n\n<p><br />\n<br />\n&nbsp\;</p>
DTSTAMP:20260423T165033Z
END:VEVENT
BEGIN:VEVENT
UID:3972026-04-302026-04-30
DTSTART:20260430T200000Z
SEQUENCE:0
TRANSP:OPAQUE
DTEND:20260430T200000Z
LOCATION:117 49th St\nOcean City MD 21842
X-APPLE-STRUCTURED-LOCATION;VALUE=URI;X-ADDRESS=117 49th St\nOcean City MD 
 21842;X-APPLE-RADIUS=49;X-TITLE=117 49th St:geo:38.374561,-75.071571
GEO:38.374561;-75.071571
SUMMARY:1/2 Priced Entrees at Seacrets
CLASS:PUBLIC
DESCRIPTION:TODAY'S OFF-SEASON SPECIAL\n\n_Half-Priced Entrees Are Back!_\n
 \nJoin us at Seacrets from Sunday through Thursday night from 4 pm to 9\np
 m for this delicious dining deal! \n\n \n\n \n\n \n
X-ALT-DESC;FMTTYPE=text/html:<p><strong>Today&#39\;s Off-Season Special</st
 rong><br />\n<br />\n<em>Half-Priced Entrees Are Back!</em><br />\n<br />\
 nJoin us at Seacrets from Sunday through Thursday night from 4 pm to 9 pm 
 for this delicious dining deal!&nbsp\;<br />\n<br />\n<br />\n&nbsp\;</p>\
 n\n<p>&nbsp\;</p>\n\n<p><br />\n<br />\n&nbsp\;</p>
DTSTAMP:20260423T165033Z
END:VEVENT
END:VCALENDAR